BEGIN:VCALENDAR
VERSION:2.0
PRODID:-//jEvents 2.0 for Joomla//EN
CALSCALE:GREGORIAN
METHOD:PUBLISH
BEGIN:VTIMEZONE
TZID:Europe/London
BEGIN:STANDARD
DTSTART:20240330T180000
RDATE:20240331T020000
TZOFFSETFROM:+0100
TZOFFSETTO:+0000
TZNAME:Europe/London GMT
END:STANDARD
BEGIN:STANDARD
DTSTART:20241027T010000
RDATE:20250330T020000
TZOFFSETFROM:+0100
TZOFFSETTO:+0000
TZNAME:Europe/London GMT
END:STANDARD
BEGIN:STANDARD
DTSTART:20251026T010000
RDATE:20260329T020000
TZOFFSETFROM:+0100
TZOFFSETTO:+0000
TZNAME:Europe/London GMT
END:STANDARD
BEGIN:STANDARD
DTSTART:20261025T010000
RDATE:20270328T020000
TZOFFSETFROM:+0100
TZOFFSETTO:+0000
TZNAME:Europe/London GMT
END:STANDARD
BEGIN:STANDARD
DTSTART:20271031T010000
RDATE:20280326T020000
TZOFFSETFROM:+0100
TZOFFSETTO:+0000
TZNAME:Europe/London GMT
END:STANDARD
BEGIN:DAYLIGHT
DTSTART:20240331T020000
RDATE:20241027T010000
TZOFFSETFROM:+0000
TZOFFSETTO:+0100
TZNAME:Europe/London BST
END:DAYLIGHT
BEGIN:DAYLIGHT
DTSTART:20250330T020000
RDATE:20251026T010000
TZOFFSETFROM:+0000
TZOFFSETTO:+0100
TZNAME:Europe/London BST
END:DAYLIGHT
BEGIN:DAYLIGHT
DTSTART:20260329T020000
RDATE:20261025T010000
TZOFFSETFROM:+0000
TZOFFSETTO:+0100
TZNAME:Europe/London BST
END:DAYLIGHT
BEGIN:DAYLIGHT
DTSTART:20270328T020000
RDATE:20271031T010000
TZOFFSETFROM:+0000
TZOFFSETTO:+0100
TZNAME:Europe/London BST
END:DAYLIGHT
END:VTIMEZONE
BEGIN:VEVENT
UID:530e2d8049a88400d278ae33ea9d7d32
CATEGORIES:Irish dancing, Folk Dance Clubs
CREATED:20250114T121827
SUMMARY:Oxford Irish Set Dancing
LOCATION:Corpus Christi Church Hall\, Margaret Road\, Headington\, Oxford OX3 8NB
DESCRIPTION:Oxford Irish Set Dancers meet most Mondays from 7pm until 9pm at Corpus Chr
 isti Church Hall, Margaret Road, Headington, Oxford OX3 8NB.\nBe sure to ch
 eck that the class is on before travelling in case we decide to have a week
  off. Call, text or WhatsApp 07856 846128 to get in touch, or This email ad
 dress is being protected from spambots. You need JavaScript enabled to view
  it..\nSet dancing is social dancing for adults to traditional Irish music 
 done purely for fun, so if you are sociable, adult, like dancing to music a
 nd having fun then you're good to go.\nSet dancing is not Riverdance. River
 dance is based on Irish step dancing, which is largely a solo discipline do
 ne for competitive or display purposes. Set dancing is nothing like that; i
 t is social dancing just for fun. Bill Lynch's article The Joy of Sets (htt
 ps://sets.ie/home.html?book=SSIE&amp;volume=11003474&amp;article=12006204) 
 describes it well and his website sets.ie (http://sets.ie) is an essential 
 reference.\nHere's an alternative description https://www.oxfordaweso.me/ (
 https://www.oxfordaweso.me/)\nAnd here's what it can look like https://www.
 setdancing.fun/ (https://www.setdancing.fun/)\nCome along and give it a try
 ! You'll be very welcome.\nColin\n
X-ALT-DESC;FMTTYPE=text/html:<p>Oxford Irish Set Dancers meet <em>most</em> Mondays from 7pm until 9pm a
 t Corpus Christi Church Hall, Margaret Road, Headington, Oxford OX3 8NB.</p
 ><p>Be sure to check that the class is on before travelling in case we deci
 de to have a week off. Call, text or WhatsApp 07856 846128 to get in touch,
  or <joomla-hidden-mail  is-link="1" is-email="0" first="Y29saW4=" last="b3
 hmb3JkaXJpc2hzZXRkYW5jaW5nLmNsdWI/c3ViamVjdD13ZWJzaXRlJTIwZW5xdWlyeQ==" tex
 t="IGVtYWls" base="" >This email address is being protected from spambots. 
 You need JavaScript enabled to view it.</joomla-hidden-mail>.</p><p>Set dan
 cing is social dancing for adults to traditional Irish music done purely fo
 r fun, so if you are sociable, adult, like dancing to music and having fun 
 then you're good to go.</p><p>Set dancing is not Riverdance. Riverdance is 
 based on Irish <em>step</em> dancing, which is largely a solo discipline do
 ne for competitive or display purposes. <em>Set</em> dancing is nothing lik
 e that; it is social dancing just for fun. Bill Lynch's article <a href="ht
 tps://sets.ie/home.html?book=SSIE&amp;volume=11003474&amp;article=12006204"
 >The Joy of Sets</a> describes it well and his website <a href="http://sets
 .ie">sets.ie</a> is an essential reference.</p><p>Here's an alternative des
 cription <a href="https://www.oxfordaweso.me/">https://www.oxfordaweso.me/<
 /a></p><p>And here's what it can look like <a href="https://www.setdancing.
 fun/">https://www.setdancing.fun/</a></p><p>Come along and give it a try! Y
 ou'll be very welcome.</p><p>Colin</p>
CONTACT:07856 846128 This email address is being protected from spambots. You need JavaScript enabled to view it.
DTSTAMP:20260420T203648
DTSTART;TZID=Europe/London:20250331T190000
DTEND;TZID=Europe/London:20250331T210000
SEQUENCE:0
TRANSP:OPAQUE
END:VEVENT
END:VCALENDAR