BEGIN:VCALENDAR
VERSION:2.0
PRODID:-//jEvents 2.0 for Joomla//EN
CALSCALE:GREGORIAN
METHOD:PUBLISH
BEGIN:VTIMEZONE
TZID:Europe/London
BEGIN:STANDARD
DTSTART:20240318T200000
RDATE:20240331T020000
TZOFFSETFROM:+0100
TZOFFSETTO:+0000
TZNAME:Europe/London GMT
END:STANDARD
BEGIN:STANDARD
DTSTART:20241027T010000
RDATE:20250330T020000
TZOFFSETFROM:+0100
TZOFFSETTO:+0000
TZNAME:Europe/London GMT
END:STANDARD
BEGIN:STANDARD
DTSTART:20251026T010000
RDATE:20260329T020000
TZOFFSETFROM:+0100
TZOFFSETTO:+0000
TZNAME:Europe/London GMT
END:STANDARD
BEGIN:STANDARD
DTSTART:20261025T010000
RDATE:20270328T020000
TZOFFSETFROM:+0100
TZOFFSETTO:+0000
TZNAME:Europe/London GMT
END:STANDARD
BEGIN:STANDARD
DTSTART:20271031T010000
RDATE:20280326T020000
TZOFFSETFROM:+0100
TZOFFSETTO:+0000
TZNAME:Europe/London GMT
END:STANDARD
BEGIN:DAYLIGHT
DTSTART:20240331T020000
RDATE:20241027T010000
TZOFFSETFROM:+0000
TZOFFSETTO:+0100
TZNAME:Europe/London BST
END:DAYLIGHT
BEGIN:DAYLIGHT
DTSTART:20250330T020000
RDATE:20251026T010000
TZOFFSETFROM:+0000
TZOFFSETTO:+0100
TZNAME:Europe/London BST
END:DAYLIGHT
BEGIN:DAYLIGHT
DTSTART:20260329T020000
RDATE:20261025T010000
TZOFFSETFROM:+0000
TZOFFSETTO:+0100
TZNAME:Europe/London BST
END:DAYLIGHT
BEGIN:DAYLIGHT
DTSTART:20270328T020000
RDATE:20271031T010000
TZOFFSETFROM:+0000
TZOFFSETTO:+0100
TZNAME:Europe/London BST
END:DAYLIGHT
END:VTIMEZONE
BEGIN:VEVENT
UID:71e8df573c21d0ee6be0d53d96e45ec4
CATEGORIES:Session
CREATED:20230521T114950
SUMMARY:Chinnor 3rd Wednesday Session
LOCATION:Chinnor Village Hall\, Church Road\, OX39 4PQ
DESCRIPTION:3rd Wednesday in the month (This was previously Red Lion group and Towersey
  Group, but has now moved to Chinnor): An evening group, 8 – 10pm,playing f
 rom a playlist chosen by a different member each month.  A selection of tun
 es from a Drop Box, is used as well as other books including Pete Mac’s “Ba
 nd Swing”, “Band Time”, Barry Moule’s “Play in the Band” and  Nick Barber’s
  “English Choice”. There is often time for free choice at the end. Refreshm
 ents served\n
X-ALT-DESC;FMTTYPE=text/html:<p><b>3<sup>rd</sup>&nbsp;Wednesday in the month (This was previously Red L
 ion group and Towersey Group, but has now moved to Chinnor):&nbsp;</b>An ev
 ening group, 8 – 10pm,playing from a playlist chosen by a different member 
 each month.&nbsp; A selection of tunes from a Drop Box, is used as well as 
 other books including Pete Mac’s “Band Swing”, “Band Time”, Barry Moule’s “
 Play in the Band” and &nbsp;Nick Barber’s “English Choice”. There is often 
 time for free choice at the end. Refreshments served</p>
CONTACT:Liz Wager This email address is being protected from spambots. You need JavaScript enabled to view it.
DTSTAMP:20260419T154714
DTSTART;TZID=Europe/London:20250319T200000
DTEND;TZID=Europe/London:20250319T220000
SEQUENCE:0
TRANSP:OPAQUE
END:VEVENT
END:VCALENDAR