BEGIN:VCALENDAR
VERSION:2.0
PRODID:-//jEvents 2.0 for Joomla//EN
CALSCALE:GREGORIAN
METHOD:PUBLISH
BEGIN:VTIMEZONE
TZID:Europe/London
BEGIN:STANDARD
DTSTART:20251026T010000
RDATE:20260329T020000
TZOFFSETFROM:+0100
TZOFFSETTO:+0000
TZNAME:Europe/London GMT
END:STANDARD
BEGIN:STANDARD
DTSTART:20261025T010000
RDATE:20270328T020000
TZOFFSETFROM:+0100
TZOFFSETTO:+0000
TZNAME:Europe/London GMT
END:STANDARD
BEGIN:STANDARD
DTSTART:20271031T010000
RDATE:20280326T020000
TZOFFSETFROM:+0100
TZOFFSETTO:+0000
TZNAME:Europe/London GMT
END:STANDARD
BEGIN:DAYLIGHT
DTSTART:20250412T190000
RDATE:20251026T010000
TZOFFSETFROM:+0000
TZOFFSETTO:+0100
TZNAME:Europe/London BST
END:DAYLIGHT
BEGIN:DAYLIGHT
DTSTART:20260329T020000
RDATE:20261025T010000
TZOFFSETFROM:+0000
TZOFFSETTO:+0100
TZNAME:Europe/London BST
END:DAYLIGHT
BEGIN:DAYLIGHT
DTSTART:20270328T020000
RDATE:20271031T010000
TZOFFSETFROM:+0000
TZOFFSETTO:+0100
TZNAME:Europe/London BST
END:DAYLIGHT
END:VTIMEZONE
BEGIN:VEVENT
UID:c07b5572fae76ff6f334099b4d83844f
CATEGORIES:Folk Dance Clubs
CREATED:19700101T010000
SUMMARY:Oxford Set Dancing
LOCATION:Corpus Christi Church Hall\, Margaret Road\, Headington\, Oxford OX3 8NB
DESCRIPTION:Oxford Irish Set Dancers meet most Mondays from 7pm until 9pm at Corpus Chr
 isti Church Hall, Margaret Road, Headington, Oxford OX3 8NB.\nBe sure to ch
 eck that the class is on before travelling in case we decide to have a week
  off. Call, text or WhatsApp 07856 846128 to get in touch, or email. (mailt
 o://colin@oxfordirishsetdancing.club?subject=Enquiry%20from%20folk%20in%20o
 xford)\nSet dancing is social dancing for adults to traditional Irish music
  done purely for fun, so if you are sociable, adult, like dancing to music 
 and having fun then you're good to go.\nSet dancing is not Riverdance (Mich
 ael Flatley, etc). That's step dancing which is completely different. Set d
 ancing is social dancing that's just good fun and makes you happy! Bill Lyn
 ch's article The Joy of Sets (https://sets.ie/home.html?book=SSIE&amp;volum
 e=11003474&amp;article=12006204) describes it well and his website sets.ie 
 (https://sets.ie/) is an essential reference.\nWebsite: https://www.oxfordi
 rishsetdancing.club/ (https://www.oxfordirishsetdancing.club/?i=1)\nHere's 
 an alternative description: https://www.oxfordaweso.me/ (https://www.oxford
 aweso.me/)\nAnd here's what it can look like: https://www.setdancing.fun/ (
 https://www.setdancing.fun/)\nCome along and give it a try.\nYou will be ve
 ry welcome and we look forward to meeting you.\nColin\n
X-ALT-DESC;FMTTYPE=text/html:<p>Oxford Irish Set Dancers meet <em>most</em> Mondays from 7pm until 9pm a
 t Corpus Christi Church Hall, Margaret Road, Headington, Oxford OX3 8NB.</p
 ><p>Be sure to check that the class is on before travelling in case we deci
 de to have a week off. Call, text or WhatsApp 07856 846128 to get in touch,
  or <a href="mailto://colin@oxfordirishsetdancing.club?subject=Enquiry%20fr
 om%20folk%20in%20oxford">email.</a></p><p>Set dancing is social dancing for
  adults to traditional Irish music done purely for fun, so if you are socia
 ble, adult, like dancing to music and having fun then you're good to go.</p
 ><p>Set dancing is not Riverdance (Michael Flatley, etc). That's <em>step</
 em> dancing which is completely different. <em>Set</em> dancing is social d
 ancing that's just good fun and makes you happy! Bill Lynch's article <a hr
 ef="https://sets.ie/home.html?book=SSIE&amp;volume=11003474&amp;article=120
 06204">The Joy of Sets</a> describes it well and his website <a href="https
 ://sets.ie/">sets.ie</a> is an essential reference.</p><p>Website:&nbsp;<a 
 href="https://www.oxfordirishsetdancing.club/?i=1">https://www.oxfordirishs
 etdancing.club/</a></p><p>Here's an alternative description: <a href="https
 ://www.oxfordaweso.me/">https://www.oxfordaweso.me/</a></p><p>And here's wh
 at it can look like: <a href="https://www.setdancing.fun/">https://www.setd
 ancing.fun/</a></p><p>Come along and give it a try.</p><p>You will be very 
 welcome and we look forward to meeting you.</p><p>Colin</p>
CONTACT:Colin 07856 846128 oxfordirishsetdancing@colint.me.uk
DTSTAMP:20260419T130128
DTSTART;TZID=Europe/London:20260413T190000
DTEND;TZID=Europe/London:20260413T210000
SEQUENCE:0
RRULE:FREQ=WEEKLY;UNTIL=20260630T000000Z;INTERVAL=1;BYDAY=MO
TRANSP:OPAQUE
END:VEVENT
END:VCALENDAR