BEGIN:VCALENDAR
VERSION:2.0
PRODID:-//jEvents 2.0 for Joomla//EN
CALSCALE:GREGORIAN
METHOD:PUBLISH
BEGIN:VTIMEZONE
TZID:Europe/London
BEGIN:STANDARD
DTSTART:20201106T160000
RDATE:20210328T020000
TZOFFSETFROM:+0100
TZOFFSETTO:+0000
TZNAME:Europe/London GMT
END:STANDARD
BEGIN:STANDARD
DTSTART:20211031T010000
RDATE:20220327T020000
TZOFFSETFROM:+0100
TZOFFSETTO:+0000
TZNAME:Europe/London GMT
END:STANDARD
BEGIN:STANDARD
DTSTART:20221030T010000
RDATE:20230326T020000
TZOFFSETFROM:+0100
TZOFFSETTO:+0000
TZNAME:Europe/London GMT
END:STANDARD
BEGIN:STANDARD
DTSTART:20231029T010000
RDATE:20240331T020000
TZOFFSETFROM:+0100
TZOFFSETTO:+0000
TZNAME:Europe/London GMT
END:STANDARD
BEGIN:STANDARD
DTSTART:20241027T010000
RDATE:20250330T020000
TZOFFSETFROM:+0100
TZOFFSETTO:+0000
TZNAME:Europe/London GMT
END:STANDARD
BEGIN:STANDARD
DTSTART:20251026T010000
RDATE:20260329T020000
TZOFFSETFROM:+0100
TZOFFSETTO:+0000
TZNAME:Europe/London GMT
END:STANDARD
BEGIN:STANDARD
DTSTART:20261025T010000
RDATE:20270328T020000
TZOFFSETFROM:+0100
TZOFFSETTO:+0000
TZNAME:Europe/London GMT
END:STANDARD
BEGIN:STANDARD
DTSTART:20271031T010000
RDATE:20280326T020000
TZOFFSETFROM:+0100
TZOFFSETTO:+0000
TZNAME:Europe/London GMT
END:STANDARD
BEGIN:DAYLIGHT
DTSTART:20210328T020000
RDATE:20211031T010000
TZOFFSETFROM:+0000
TZOFFSETTO:+0100
TZNAME:Europe/London BST
END:DAYLIGHT
BEGIN:DAYLIGHT
DTSTART:20220327T020000
RDATE:20221030T010000
TZOFFSETFROM:+0000
TZOFFSETTO:+0100
TZNAME:Europe/London BST
END:DAYLIGHT
BEGIN:DAYLIGHT
DTSTART:20230326T020000
RDATE:20231029T010000
TZOFFSETFROM:+0000
TZOFFSETTO:+0100
TZNAME:Europe/London BST
END:DAYLIGHT
BEGIN:DAYLIGHT
DTSTART:20240331T020000
RDATE:20241027T010000
TZOFFSETFROM:+0000
TZOFFSETTO:+0100
TZNAME:Europe/London BST
END:DAYLIGHT
BEGIN:DAYLIGHT
DTSTART:20250330T020000
RDATE:20251026T010000
TZOFFSETFROM:+0000
TZOFFSETTO:+0100
TZNAME:Europe/London BST
END:DAYLIGHT
BEGIN:DAYLIGHT
DTSTART:20260329T020000
RDATE:20261025T010000
TZOFFSETFROM:+0000
TZOFFSETTO:+0100
TZNAME:Europe/London BST
END:DAYLIGHT
BEGIN:DAYLIGHT
DTSTART:20270328T020000
RDATE:20271031T010000
TZOFFSETFROM:+0000
TZOFFSETTO:+0100
TZNAME:Europe/London BST
END:DAYLIGHT
END:VTIMEZONE
BEGIN:VEVENT
UID:31cc48f365743cbd743c5f5afb33f2fc
CATEGORIES:Session
CREATED:19700101T010000
SUMMARY:Oxford Slow Session
LOCATION:The Slow and Steady\, 38 Abingdon Rd\, Oxford OX1 4PD.
DESCRIPTION:Oxford Slow Session\nThe idea of this session is to start slow… we start as
  slowly as necessary so that everyone can join in, and we gradually get fas
 ter. \nWe have a tune of the month (https://oxfordslowsession.com/about/tun
 e-of-the-month/) so we know what to practice, but any of the tunes on the w
 ebsite may be played. If you prefer to read music, you can, and if you’d li
 ke to hear it and copy, that’s fine too. Ideally, we play by heart (the dot
 s are merely a starting point). I’ve managed to upload some music script (s
 ee tune pages) and more importantly, attached links to a few youtube videos
  so we have an idea of what it could sound like. In October we are returnin
 g to the (former) White House, now called The Slow and Steady, on Abingdon 
 Road. Bring an instrument and join us upstairs!\nMore info: www.oxfordslows
 ession.com (https://www.oxfordslowsession.com)\n
X-ALT-DESC;FMTTYPE=text/html:<p>Oxford Slow Session</p><p>The idea of this session is to start slow… we 
 start as slowly as necessary so that everyone can join in, and we gradually
  get faster.&nbsp;</p><p>We have a&nbsp;<a href="https://oxfordslowsession.
 com/about/tune-of-the-month/">tune of the month</a>&nbsp;so we know what to
  practice, but any of the tunes on the website may be played. If you prefer
  to read music, you can, and if you’d like to hear it and copy, that’s fine
  too. Ideally, we play by heart (the dots are merely&nbsp;a starting point)
 . I’ve managed to upload some music script (see tune pages) and more import
 antly, attached links to a few youtube videos so we have an&nbsp;idea of wh
 at it could sound like. In October we are returning to the (former) White H
 ouse, now called The Slow and Steady, on Abingdon Road. Bring an instrument
  and join us upstairs!</p><p>More info: <a href="https://www.oxfordslowsess
 ion.com" target="_blank" rel="noopener">www.oxfordslowsession.com</a></p>
CONTACT:oxfordslowsession2014@gmail.com
X-EXTRAINFO:www.oxfordslowsession.com\nBring an instrument and buy something from the p
 ub and join in. All welcome. Music and info on website.
DTSTAMP:20260422T143752
DTSTART;TZID=Europe/London:20211107T160000
DTEND;TZID=Europe/London:20211107T183000
SEQUENCE:0
RRULE:FREQ=MONTHLY;COUNT=9999;INTERVAL=1;BYDAY=+1SU
TRANSP:OPAQUE
END:VEVENT
END:VCALENDAR