BEGIN:VCALENDAR
VERSION:2.0
PRODID:-//jEvents 2.0 for Joomla//EN
CALSCALE:GREGORIAN
METHOD:PUBLISH
BEGIN:VTIMEZONE
TZID:Europe/London
BEGIN:STANDARD
DTSTART:20241027T010000
RDATE:20250330T020000
TZOFFSETFROM:+0100
TZOFFSETTO:+0000
TZNAME:Europe/London GMT
END:STANDARD
BEGIN:STANDARD
DTSTART:20251026T010000
RDATE:20260329T020000
TZOFFSETFROM:+0100
TZOFFSETTO:+0000
TZNAME:Europe/London GMT
END:STANDARD
BEGIN:STANDARD
DTSTART:20261025T010000
RDATE:20270328T020000
TZOFFSETFROM:+0100
TZOFFSETTO:+0000
TZNAME:Europe/London GMT
END:STANDARD
BEGIN:STANDARD
DTSTART:20271031T010000
RDATE:20280326T020000
TZOFFSETFROM:+0100
TZOFFSETTO:+0000
TZNAME:Europe/London GMT
END:STANDARD
BEGIN:DAYLIGHT
DTSTART:20240519T190000
RDATE:20241027T010000
TZOFFSETFROM:+0000
TZOFFSETTO:+0100
TZNAME:Europe/London BST
END:DAYLIGHT
BEGIN:DAYLIGHT
DTSTART:20250330T020000
RDATE:20251026T010000
TZOFFSETFROM:+0000
TZOFFSETTO:+0100
TZNAME:Europe/London BST
END:DAYLIGHT
BEGIN:DAYLIGHT
DTSTART:20260329T020000
RDATE:20261025T010000
TZOFFSETFROM:+0000
TZOFFSETTO:+0100
TZNAME:Europe/London BST
END:DAYLIGHT
BEGIN:DAYLIGHT
DTSTART:20270328T020000
RDATE:20271031T010000
TZOFFSETFROM:+0000
TZOFFSETTO:+0100
TZNAME:Europe/London BST
END:DAYLIGHT
END:VTIMEZONE
BEGIN:VEVENT
UID:47097106d7eba08614435ca9b11a1f2c
CATEGORIES:Morris
CREATED:20250426T214149
SUMMARY:Eysham Morris and visitors
LOCATION:Eynsham
DESCRIPTION: \n Hankies Gone Awry (Kentucky USA), Eynsham Morris, Charlbury Morris, in 
 Eynsham \n
X-ALT-DESC;FMTTYPE=text/html:<p>&nbsp;</p><table cellpadding="0" cellspacing="0"><tbody><tr><td style="v
 ertical-align: top;"><p>&nbsp;Hankies Gone Awry (Kentucky USA), Eynsham Mor
 ris, Charlbury Morris, in Eynsham&nbsp;</p></td></tr></tbody></table>
DTSTAMP:20260424T134719
DTSTART;TZID=Europe/London:20250520T190000
SEQUENCE:0
TRANSP:OPAQUE
END:VEVENT
END:VCALENDAR