BEGIN:VCALENDAR
VERSION:2.0
PRODID:-//jEvents 2.0 for Joomla//EN
CALSCALE:GREGORIAN
METHOD:PUBLISH
BEGIN:VTIMEZONE
TZID:Europe/London
BEGIN:STANDARD
DTSTART:20241027T010000
RDATE:20250330T020000
TZOFFSETFROM:+0100
TZOFFSETTO:+0000
TZNAME:Europe/London GMT
END:STANDARD
BEGIN:STANDARD
DTSTART:20251026T010000
RDATE:20260329T020000
TZOFFSETFROM:+0100
TZOFFSETTO:+0000
TZNAME:Europe/London GMT
END:STANDARD
BEGIN:STANDARD
DTSTART:20261025T010000
RDATE:20270328T020000
TZOFFSETFROM:+0100
TZOFFSETTO:+0000
TZNAME:Europe/London GMT
END:STANDARD
BEGIN:STANDARD
DTSTART:20271031T010000
RDATE:20280326T020000
TZOFFSETFROM:+0100
TZOFFSETTO:+0000
TZNAME:Europe/London GMT
END:STANDARD
BEGIN:DAYLIGHT
DTSTART:20240708T193000
RDATE:20241027T010000
TZOFFSETFROM:+0000
TZOFFSETTO:+0100
TZNAME:Europe/London BST
END:DAYLIGHT
BEGIN:DAYLIGHT
DTSTART:20250330T020000
RDATE:20251026T010000
TZOFFSETFROM:+0000
TZOFFSETTO:+0100
TZNAME:Europe/London BST
END:DAYLIGHT
BEGIN:DAYLIGHT
DTSTART:20260329T020000
RDATE:20261025T010000
TZOFFSETFROM:+0000
TZOFFSETTO:+0100
TZNAME:Europe/London BST
END:DAYLIGHT
BEGIN:DAYLIGHT
DTSTART:20270328T020000
RDATE:20271031T010000
TZOFFSETFROM:+0000
TZOFFSETTO:+0100
TZNAME:Europe/London BST
END:DAYLIGHT
END:VTIMEZONE
BEGIN:VEVENT
UID:b8ae3a08c116e05da901076a440db11d
CATEGORIES:Morris
CREATED:20250425T114827
SUMMARY:Oxford City and University Morris
LOCATION:The Kings Arms\, 40 Holywell St\, Oxford OX1 3SP
DESCRIPTION:<p>OCM: <a href="https://ocmm.greenius.org/"></a><a href="https://ocmm.gree
 nius.org/" target="_blank" rel="noopener">https://ocmm.greenius.org/</a><br
  /> OUM: <a href="https://oxforduniversitymorris.wordpress.com/"></a><a hre
 f="https://oxforduniversitymorris.wordpress.com/" target="_blank" rel="noop
 ener">https://oxforduniversitymorris.wordpress.com/</a></p>
DTSTAMP:20260421T174830
DTSTART;TZID=Europe/London:20250709T193000
SEQUENCE:0
TRANSP:OPAQUE
END:VEVENT
END:VCALENDAR