BEGIN:VCALENDAR
VERSION:2.0
PRODID:-//jEvents 2.0 for Joomla//EN
CALSCALE:GREGORIAN
METHOD:PUBLISH
BEGIN:VTIMEZONE
TZID:Europe/London
BEGIN:STANDARD
DTSTART:20241027T010000
RDATE:20250330T020000
TZOFFSETFROM:+0100
TZOFFSETTO:+0000
TZNAME:Europe/London GMT
END:STANDARD
BEGIN:STANDARD
DTSTART:20251026T010000
RDATE:20260329T020000
TZOFFSETFROM:+0100
TZOFFSETTO:+0000
TZNAME:Europe/London GMT
END:STANDARD
BEGIN:STANDARD
DTSTART:20261025T010000
RDATE:20270328T020000
TZOFFSETFROM:+0100
TZOFFSETTO:+0000
TZNAME:Europe/London GMT
END:STANDARD
BEGIN:STANDARD
DTSTART:20271031T010000
RDATE:20280326T020000
TZOFFSETFROM:+0100
TZOFFSETTO:+0000
TZNAME:Europe/London GMT
END:STANDARD
BEGIN:DAYLIGHT
DTSTART:20240429T200000
RDATE:20241027T010000
TZOFFSETFROM:+0000
TZOFFSETTO:+0100
TZNAME:Europe/London BST
END:DAYLIGHT
BEGIN:DAYLIGHT
DTSTART:20250330T020000
RDATE:20251026T010000
TZOFFSETFROM:+0000
TZOFFSETTO:+0100
TZNAME:Europe/London BST
END:DAYLIGHT
BEGIN:DAYLIGHT
DTSTART:20260329T020000
RDATE:20261025T010000
TZOFFSETFROM:+0000
TZOFFSETTO:+0100
TZNAME:Europe/London BST
END:DAYLIGHT
BEGIN:DAYLIGHT
DTSTART:20270328T020000
RDATE:20271031T010000
TZOFFSETFROM:+0000
TZOFFSETTO:+0100
TZNAME:Europe/London BST
END:DAYLIGHT
END:VTIMEZONE
BEGIN:VEVENT
UID:83a45f94c38b664f381ce668a000bc05
CATEGORIES:Folk Club
CREATED:20250331T140656
SUMMARY:Banbury Folk Club - Amber Liaiden and Friends
LOCATION:The Three Pigeons PH\, Southam Rd. 0X16 2E
DESCRIPTION:Amber Liadan has a pure, authentic sound, rooted in a Rock and Folk heritag
 e of her musical parents (Heather Mac and Tim Parr, from 80’s rock band – E
 lla Mental). Her sound influences are Rock, Reggae, supported by rustic ope
 n pentatonic guitar tunings covering light and dark notes congruent with he
 r all – powerful voice. Amber Liadan has been living in London for the last
  3 years, honing her craft as a musician and developing a strong fan base- 
 proving without doubt that she is an international Musical Enchantress.  In
  her career she has been support act for Steve Newman, Bill Knight, Tim Par
 r, Heather Mac, Robin Auld, Ant Cawthorn-Blazeby, Kindred Spirit, Time Flie
 s, Native Young and Arno Carsten. Amber is a performer not to miss!\n
X-ALT-DESC;FMTTYPE=text/html:<p>Amber Liadan has a pure, authentic sound, rooted in a Rock and Folk heri
 tage of her musical parents (Heather Mac and Tim Parr, from 80’s rock band 
 – Ella Mental). Her sound influences are Rock, Reggae, supported by rustic 
 open pentatonic guitar tunings covering light and dark notes congruent with
  her all – powerful voice. Amber Liadan has been living in London for the l
 ast 3 years, honing her craft as a musician and developing a strong fan bas
 e- proving without doubt that she is an international Musical Enchantress.&
 nbsp; In her career she has been support act for Steve Newman, Bill Knight,
  Tim Parr, Heather Mac, Robin Auld, Ant Cawthorn-Blazeby, Kindred Spirit, T
 ime Flies, Native Young and Arno Carsten. Amber is a performer not to miss!
 </p>
CONTACT:https://banburyfolkclub.co.uk/event/amber-liaiden-and-friends/
DTSTAMP:20260419T142634
DTSTART;TZID=Europe/London:20250430T200000
DTEND;TZID=Europe/London:20250430T223000
SEQUENCE:0
TRANSP:OPAQUE
END:VEVENT
END:VCALENDAR