BEGIN:VCALENDAR
VERSION:2.0
PRODID:-//jEvents 2.0 for Joomla//EN
CALSCALE:GREGORIAN
METHOD:PUBLISH
BEGIN:VTIMEZONE
TZID:Europe/London
BEGIN:STANDARD
DTSTART:20240120T190000
RDATE:20240331T020000
TZOFFSETFROM:+0100
TZOFFSETTO:+0000
TZNAME:Europe/London GMT
END:STANDARD
BEGIN:STANDARD
DTSTART:20241027T010000
RDATE:20250330T020000
TZOFFSETFROM:+0100
TZOFFSETTO:+0000
TZNAME:Europe/London GMT
END:STANDARD
BEGIN:STANDARD
DTSTART:20251026T010000
RDATE:20260329T020000
TZOFFSETFROM:+0100
TZOFFSETTO:+0000
TZNAME:Europe/London GMT
END:STANDARD
BEGIN:STANDARD
DTSTART:20261025T010000
RDATE:20270328T020000
TZOFFSETFROM:+0100
TZOFFSETTO:+0000
TZNAME:Europe/London GMT
END:STANDARD
BEGIN:STANDARD
DTSTART:20271031T010000
RDATE:20280326T020000
TZOFFSETFROM:+0100
TZOFFSETTO:+0000
TZNAME:Europe/London GMT
END:STANDARD
BEGIN:DAYLIGHT
DTSTART:20240331T020000
RDATE:20241027T010000
TZOFFSETFROM:+0000
TZOFFSETTO:+0100
TZNAME:Europe/London BST
END:DAYLIGHT
BEGIN:DAYLIGHT
DTSTART:20250330T020000
RDATE:20251026T010000
TZOFFSETFROM:+0000
TZOFFSETTO:+0100
TZNAME:Europe/London BST
END:DAYLIGHT
BEGIN:DAYLIGHT
DTSTART:20260329T020000
RDATE:20261025T010000
TZOFFSETFROM:+0000
TZOFFSETTO:+0100
TZNAME:Europe/London BST
END:DAYLIGHT
BEGIN:DAYLIGHT
DTSTART:20270328T020000
RDATE:20271031T010000
TZOFFSETFROM:+0000
TZOFFSETTO:+0100
TZNAME:Europe/London BST
END:DAYLIGHT
END:VTIMEZONE
BEGIN:VEVENT
UID:530e2d8049a88400d278ae33ea9d7d32
CATEGORIES:Folk Dance Clubs
CREATED:19700101T010000
SUMMARY:Oxford Irish Set Dancing
LOCATION:Corpus Christi Church Hall\, Margaret Road\, Headington\, Oxford OX3 8NB
DESCRIPTION:Oxford Irish Set Dancers meet most Mondays from 7pm until 9pm at Corpus Chr
 isti Church Hall, Margaret Road, Headington, Oxford OX3 8NB.\nBe sure to ch
 eck that the class is on before travelling in case we decide to have a week
  off. Call, text or WhatsApp 07856 846128 to get in touch, or  email (mailt
 o:colin@oxfordirishsetdancing.club?subject=website%20enquiry).\nSet dancing
  is social dancing for adults to traditional Irish music done purely for fu
 n, so if you are sociable, adult, like dancing to music and having fun then
  you're good to go.\nSet dancing is not Riverdance. Riverdance is based on 
 Irish step dancing, which is largely a solo discipline done for competitive
  or display purposes. Set dancing is nothing like that; it is social dancin
 g just for fun. Bill Lynch's article The Joy of Sets (https://sets.ie/home.
 html?book=SSIE&amp;volume=11003474&amp;article=12006204) describes it well 
 and his website sets.ie (http://sets.ie) is an essential reference.\nHere's
  an alternative description https://www.oxfordaweso.me/ (https://www.oxford
 aweso.me/)\nAnd here's what it can look like https://www.setdancing.fun/ (h
 ttps://www.setdancing.fun/)\nCome along and give it a try! You'll be very w
 elcome.\nColin\n
X-ALT-DESC;FMTTYPE=text/html:<p>Oxford Irish Set Dancers meet <em>most</em> Mondays from 7pm until 9pm a
 t Corpus Christi Church Hall, Margaret Road, Headington, Oxford OX3 8NB.</p
 ><p>Be sure to check that the class is on before travelling in case we deci
 de to have a week off. Call, text or WhatsApp 07856 846128 to get in touch,
  or <a href="mailto:colin@oxfordirishsetdancing.club?subject=website%20enqu
 iry"> email</a>.</p><p>Set dancing is social dancing for adults to traditio
 nal Irish music done purely for fun, so if you are sociable, adult, like da
 ncing to music and having fun then you're good to go.</p><p>Set dancing is 
 not Riverdance. Riverdance is based on Irish <em>step</em> dancing, which i
 s largely a solo discipline done for competitive or display purposes. <em>S
 et</em> dancing is nothing like that; it is social dancing just for fun. Bi
 ll Lynch's article <a href="https://sets.ie/home.html?book=SSIE&amp;volume=
 11003474&amp;article=12006204">The Joy of Sets</a> describes it well and hi
 s website <a href="http://sets.ie">sets.ie</a> is an essential reference.</
 p><p>Here's an alternative description <a href="https://www.oxfordaweso.me/
 ">https://www.oxfordaweso.me/</a></p><p>And here's what it can look like <a
  href="https://www.setdancing.fun/">https://www.setdancing.fun/</a></p><p>C
 ome along and give it a try! You'll be very welcome.</p><p>Colin</p>
CONTACT:07856 846128 colin@oxfordirishsetdancing.club
DTSTAMP:20260420T190453
DTSTART;TZID=Europe/London:20250120T190000
DTEND;TZID=Europe/London:20250120T210000
SEQUENCE:0
RRULE:FREQ=WEEKLY;UNTIL=20250701T000000Z;INTERVAL=1;BYDAY=MO
TRANSP:OPAQUE
END:VEVENT
END:VCALENDAR