BEGIN:VCALENDAR
VERSION:2.0
PRODID:-//jEvents 2.0 for Joomla//EN
CALSCALE:GREGORIAN
METHOD:PUBLISH
BEGIN:VTIMEZONE
TZID:Europe/London
BEGIN:STANDARD
DTSTART:20241027T010000
RDATE:20250330T020000
TZOFFSETFROM:+0100
TZOFFSETTO:+0000
TZNAME:Europe/London GMT
END:STANDARD
BEGIN:STANDARD
DTSTART:20251026T010000
RDATE:20260329T020000
TZOFFSETFROM:+0100
TZOFFSETTO:+0000
TZNAME:Europe/London GMT
END:STANDARD
BEGIN:STANDARD
DTSTART:20261025T010000
RDATE:20270328T020000
TZOFFSETFROM:+0100
TZOFFSETTO:+0000
TZNAME:Europe/London GMT
END:STANDARD
BEGIN:STANDARD
DTSTART:20271031T010000
RDATE:20280326T020000
TZOFFSETFROM:+0100
TZOFFSETTO:+0000
TZNAME:Europe/London GMT
END:STANDARD
BEGIN:DAYLIGHT
DTSTART:20240502T193000
RDATE:20241027T010000
TZOFFSETFROM:+0000
TZOFFSETTO:+0100
TZNAME:Europe/London BST
END:DAYLIGHT
BEGIN:DAYLIGHT
DTSTART:20250330T020000
RDATE:20251026T010000
TZOFFSETFROM:+0000
TZOFFSETTO:+0100
TZNAME:Europe/London BST
END:DAYLIGHT
BEGIN:DAYLIGHT
DTSTART:20260329T020000
RDATE:20261025T010000
TZOFFSETFROM:+0000
TZOFFSETTO:+0100
TZNAME:Europe/London BST
END:DAYLIGHT
BEGIN:DAYLIGHT
DTSTART:20270328T020000
RDATE:20271031T010000
TZOFFSETFROM:+0000
TZOFFSETTO:+0100
TZNAME:Europe/London BST
END:DAYLIGHT
END:VTIMEZONE
BEGIN:VEVENT
UID:0568897064c322d87df4bbb3d6341a68
CATEGORIES:Concert / Performance, Folk Club
CREATED:20250101T123335
SUMMARY:Harbottle & Jonas @ Wychwood Folk & Acoustic Club
LOCATION:Tiddy Hall\, Shipton Road\, Ascott -u- Wychwood\, Oxon\, OX7 6AG
DESCRIPTION:Sat 3rd May         Harbottle &amp; Jonas @ Wychwood Folk &amp; Acoustic Cl
 ub\nTiddy Hall, Shipton Road, Ascott -u- Wychwood, Oxon, OX7 6AG\nTickets £
 12.00 in advance £15.00 on the door\nwww.wegottickets.com/wychwoodfolkclub 
 (http://www.wegottickets.com/wychwoodfolkclub)         \n (mailto:wychwoodf
 olkclub@outlook.com)This email address is being protected from spambots. Yo
 u need JavaScript enabled to view it.\nPartners in life and music, dynamic 
 Devon based folk duo Harbottle &amp; Jonas are one of the most exciting act
 s on the UK circuit today, combining a love of the richness of traditional 
 folk with their own original and powerful songwriting. Dave and Freya have 
 developed a distinct and compelling signature sound, blending concertina, h
 armonium, cittern, stomp box, acoustic guitar and banjo with their beautifu
 l and closely intertwined vocal harmonies.\nFolkwords magazine said they’d 
 ‘stake money on a bright future’ for the pair. They released their debut al
 bum 'Cutthorpe Hill' in 2014 and even had a beer named after it at the laun
 ch gig. They are well known for being one of the hardest working bands on t
 he folk circuit and have clocked up an average of 100+ gigs a year between 
 2014 - 2019. They have been awarded funding to work with the Peace Museum t
 o create new songs using lyrics from the Conscientious Objectors Songbook a
 nd in 2018 and 2019 David and Freya led the folk course at the internationa
 lly renowned Dartington Summer School.\nWell-travelled across the UK and ab
 road they have undertaken two tours of Germany playing in venues such as RE
 WE supermarkets to 150 people and an 800-year-old church in North Friesland
 . Harbottle &amp; Jonas have managed to establish themselves versatile in v
 enue, original in song and one of the most exciting prospects on the folk c
 ircuit.\n"They come over like a cosmic, contemporary Fairport Convention" -
  Jude Rogers, The Guardian\n" The legendary Harbottle and Jonas... incredib
 le" - Tom Robinson, BBC 6 Music\n“One of the finest folk duos in the countr
 y” - Mike Davies, Alternative Roots\n“One of the most exciting acts on the 
 folk scene today” - Morning Star\nwww.wychwoodfolkclub.com (http://www.wych
 woodfolkclub.com)                    www.harbottleandjonas.com/ (http://www
 .harbottleandjonas.com/)\nWas It You?                        www.youtube.co
 m/watch?v=l1e2cGkUnfE&amp;list=TLGG03rlt71aEtcwMTAxMjAyNQ\nThe Beacon      
                   www.youtube.com/watch?v=cNcBzb9E6lc&amp;list=TLGGwDw174Q5
 1wEwMTAxMjAyNQ\nBlack Is The Colour          www.youtube.com/watch?v=IXwRiI
 mZ1_k&amp;list=TLGG8aGN-g4ceggwMTAxMjAyNQ&amp;t=1s\n
X-ALT-DESC;FMTTYPE=text/html:<p>Sat 3<sup>rd</sup> May&nbsp;&nbsp;&nbsp;&nbsp;&nbsp;&nbsp;&nbsp;&nbsp; <
 strong>Harbottle &amp; Jonas</strong> @ Wychwood Folk &amp; Acoustic Club</
 p><p>Tiddy Hall, Shipton Road, Ascott -u- Wychwood, Oxon, OX7 6AG</p><p>Tic
 kets £12.00 in advance £15.00 on the door</p><p><a href="http://www.wegotti
 ckets.com/wychwoodfolkclub">www.wegottickets.com/wychwoodfolkclub</a> &nbsp
 ;&nbsp;&nbsp;&nbsp;&nbsp;&nbsp;&nbsp;&nbsp;</p><p><a href="mailto:wychwoodf
 olkclub@outlook.com"></a><joomla-hidden-mail  is-link="1" is-email="1" firs
 t="d3ljaHdvb2Rmb2xrY2x1Yg==" last="b3V0bG9vay5jb20=" text="d3ljaHdvb2Rmb2xr
 Y2x1YkBvdXRsb29rLmNvbQ==" base="" >This email address is being protected fr
 om spambots. You need JavaScript enabled to view it.</joomla-hidden-mail></
 p><p>Partners in life and music, dynamic Devon based folk duo Harbottle &am
 p; Jonas are one of the most exciting acts on the UK circuit today, combini
 ng a love of the richness of traditional folk with their own original and p
 owerful songwriting. Dave and Freya have developed a distinct and compellin
 g signature sound, blending concertina, harmonium, cittern, stomp box, acou
 stic guitar and banjo with their beautiful and closely intertwined vocal ha
 rmonies.</p><p>Folkwords magazine said they’d ‘stake money on a bright futu
 re’ for the pair. They released their debut album 'Cutthorpe Hill' in 2014 
 and even had a beer named after it at the launch gig. They are well known f
 or being one of the hardest working bands on the folk circuit and have cloc
 ked up an average of 100+ gigs a year between 2014 - 2019. They have been a
 warded funding to work with the Peace Museum to create new songs using lyri
 cs from the Conscientious Objectors Songbook and in 2018 and 2019 David and
  Freya led the folk course at the internationally renowned Dartington Summe
 r School.</p><p>Well-travelled across the UK and abroad they have undertake
 n two tours of Germany playing in venues such as REWE supermarkets to 150 p
 eople and an 800-year-old church in North Friesland. Harbottle &amp; Jonas 
 have managed to establish themselves versatile in venue, original in song a
 nd one of the most exciting prospects on the folk circuit.</p><p>"They come
  over like a cosmic, contemporary Fairport Convention" - Jude Rogers, The G
 uardian</p><p>" The legendary Harbottle and Jonas... incredible" - Tom Robi
 nson, BBC 6 Music</p><p>“One of the finest folk duos in the country” - Mike
  Davies, Alternative Roots</p><p>“One of the most exciting acts on the folk
  scene today” - Morning Star</p><p><a href="http://www.wychwoodfolkclub.com
 ">www.wychwoodfolkclub.com</a> &nbsp;&nbsp; &nbsp;&nbsp;&nbsp;&nbsp;&nbsp;&
 nbsp;&nbsp;&nbsp;&nbsp;&nbsp;&nbsp;&nbsp;&nbsp;&nbsp;&nbsp; <a href="http:/
 /www.harbottleandjonas.com/">www.harbottleandjonas.com/</a></p><p>Was It Yo
 u?&nbsp;&nbsp;&nbsp;&nbsp;&nbsp;&nbsp;&nbsp; &nbsp;&nbsp;&nbsp;&nbsp;&nbsp;
 &nbsp;&nbsp;&nbsp;&nbsp;&nbsp;&nbsp;&nbsp;&nbsp;&nbsp;&nbsp; <a href="http:
 //www.youtube.com/watch?v=l1e2cGkUnfE&amp;list=TLGG03rlt71aEtcwMTAxMjAyNQ">
 www.youtube.com/watch?v=l1e2cGkUnfE&amp;list=TLGG03rlt71aEtcwMTAxMjAyNQ</a>
 </p><p>The Beacon&nbsp;&nbsp;&nbsp;&nbsp;&nbsp;&nbsp;&nbsp; &nbsp;&nbsp;&nb
 sp;&nbsp;&nbsp;&nbsp;&nbsp;&nbsp;&nbsp;&nbsp;&nbsp;&nbsp;&nbsp;&nbsp;&nbsp;
  <a href="http://www.youtube.com/watch?v=cNcBzb9E6lc&amp;list=TLGGwDw174Q51
 wEwMTAxMjAyNQ">www.youtube.com/watch?v=cNcBzb9E6lc&amp;list=TLGGwDw174Q51wE
 wMTAxMjAyNQ</a></p><p>Black Is The Colour&nbsp;&nbsp;&nbsp;&nbsp;&nbsp;&nbs
 p;&nbsp;&nbsp;&nbsp; <a href="http://www.youtube.com/watch?v=IXwRiImZ1_k&am
 p;list=TLGG8aGN-g4ceggwMTAxMjAyNQ&amp;t=1s">www.youtube.com/watch?v=IXwRiIm
 Z1_k&amp;list=TLGG8aGN-g4ceggwMTAxMjAyNQ&amp;t=1s</a></p>
CONTACT:Mark/Elaine – 01993831427 or 07870563299
X-EXTRAINFO:Start 7.30pm……. Doors 6.45pm\nParking &amp; Bar Available\nContact: Mark/El
 aine – 01993831427 or 07870563299
DTSTAMP:20260424T134634
DTSTART;TZID=Europe/London:20250503T193000
SEQUENCE:0
TRANSP:OPAQUE
END:VEVENT
END:VCALENDAR