BEGIN:VCALENDAR
VERSION:2.0
PRODID:-//jEvents 2.0 for Joomla//EN
CALSCALE:GREGORIAN
METHOD:PUBLISH
BEGIN:VTIMEZONE
TZID:Europe/London
BEGIN:STANDARD
DTSTART:20231029T010000
RDATE:20240331T020000
TZOFFSETFROM:+0100
TZOFFSETTO:+0000
TZNAME:Europe/London GMT
END:STANDARD
BEGIN:STANDARD
DTSTART:20241027T010000
RDATE:20250330T020000
TZOFFSETFROM:+0100
TZOFFSETTO:+0000
TZNAME:Europe/London GMT
END:STANDARD
BEGIN:STANDARD
DTSTART:20251026T010000
RDATE:20260329T020000
TZOFFSETFROM:+0100
TZOFFSETTO:+0000
TZNAME:Europe/London GMT
END:STANDARD
BEGIN:STANDARD
DTSTART:20261025T010000
RDATE:20270328T020000
TZOFFSETFROM:+0100
TZOFFSETTO:+0000
TZNAME:Europe/London GMT
END:STANDARD
BEGIN:STANDARD
DTSTART:20271031T010000
RDATE:20280326T020000
TZOFFSETFROM:+0100
TZOFFSETTO:+0000
TZNAME:Europe/London GMT
END:STANDARD
BEGIN:DAYLIGHT
DTSTART:20230419T170000
RDATE:20231029T010000
TZOFFSETFROM:+0000
TZOFFSETTO:+0100
TZNAME:Europe/London BST
END:DAYLIGHT
BEGIN:DAYLIGHT
DTSTART:20240331T020000
RDATE:20241027T010000
TZOFFSETFROM:+0000
TZOFFSETTO:+0100
TZNAME:Europe/London BST
END:DAYLIGHT
BEGIN:DAYLIGHT
DTSTART:20250330T020000
RDATE:20251026T010000
TZOFFSETFROM:+0000
TZOFFSETTO:+0100
TZNAME:Europe/London BST
END:DAYLIGHT
BEGIN:DAYLIGHT
DTSTART:20260329T020000
RDATE:20261025T010000
TZOFFSETFROM:+0000
TZOFFSETTO:+0100
TZNAME:Europe/London BST
END:DAYLIGHT
BEGIN:DAYLIGHT
DTSTART:20270328T020000
RDATE:20271031T010000
TZOFFSETFROM:+0000
TZOFFSETTO:+0100
TZNAME:Europe/London BST
END:DAYLIGHT
END:VTIMEZONE
BEGIN:VEVENT
UID:98348f27bfb1a8796b70fc88551e2323
CATEGORIES:Festival
CREATED:20240326T093651
SUMMARY:Mansfield Smith @ The Old Fire Station - Oxford Folk Festival
LOCATION:The Old Fire Station\, 40 George Street\, Oxford OX1 2AQ
DESCRIPTION:Mansfield Smith (formerly known as Torn&amp;Frayed) are an acoustic America
 na duo who enjoy playing both covers and original songs.  Get ready for swe
 et sounds of guitar, double bass and fantastic vocals as they blow you away
  with their soulful songs and fan-favourite covers. (Includes 10 mins setup
 /take down)\n
X-ALT-DESC;FMTTYPE=text/html:<p><strong>Mansfield Smith</strong> (formerly known as Torn&amp;Frayed) are
  an acoustic Americana duo who enjoy playing both covers and original songs
 .&nbsp; Get ready for sweet sounds of guitar, double bass and fantastic voc
 als as they blow you away with their soulful&nbsp;songs&nbsp;and fan-favour
 ite covers. (Includes 10 mins setup/take down)</p>
DTSTAMP:20260424T134633
DTSTART;TZID=Europe/London:20240419T170000
SEQUENCE:0
TRANSP:OPAQUE
END:VEVENT
END:VCALENDAR