BEGIN:VCALENDAR
VERSION:2.0
PRODID:-//jEvents 2.0 for Joomla//EN
CALSCALE:GREGORIAN
METHOD:PUBLISH
BEGIN:VTIMEZONE
TZID:Europe/London
BEGIN:STANDARD
DTSTART:20231029T010000
RDATE:20240331T020000
TZOFFSETFROM:+0100
TZOFFSETTO:+0000
TZNAME:Europe/London GMT
END:STANDARD
BEGIN:STANDARD
DTSTART:20241027T010000
RDATE:20250330T020000
TZOFFSETFROM:+0100
TZOFFSETTO:+0000
TZNAME:Europe/London GMT
END:STANDARD
BEGIN:STANDARD
DTSTART:20251026T010000
RDATE:20260329T020000
TZOFFSETFROM:+0100
TZOFFSETTO:+0000
TZNAME:Europe/London GMT
END:STANDARD
BEGIN:STANDARD
DTSTART:20261025T010000
RDATE:20270328T020000
TZOFFSETFROM:+0100
TZOFFSETTO:+0000
TZNAME:Europe/London GMT
END:STANDARD
BEGIN:STANDARD
DTSTART:20271031T010000
RDATE:20280326T020000
TZOFFSETFROM:+0100
TZOFFSETTO:+0000
TZNAME:Europe/London GMT
END:STANDARD
BEGIN:DAYLIGHT
DTSTART:20230421T140000
RDATE:20231029T010000
TZOFFSETFROM:+0000
TZOFFSETTO:+0100
TZNAME:Europe/London BST
END:DAYLIGHT
BEGIN:DAYLIGHT
DTSTART:20240331T020000
RDATE:20241027T010000
TZOFFSETFROM:+0000
TZOFFSETTO:+0100
TZNAME:Europe/London BST
END:DAYLIGHT
BEGIN:DAYLIGHT
DTSTART:20250330T020000
RDATE:20251026T010000
TZOFFSETFROM:+0000
TZOFFSETTO:+0100
TZNAME:Europe/London BST
END:DAYLIGHT
BEGIN:DAYLIGHT
DTSTART:20260329T020000
RDATE:20261025T010000
TZOFFSETFROM:+0000
TZOFFSETTO:+0100
TZNAME:Europe/London BST
END:DAYLIGHT
BEGIN:DAYLIGHT
DTSTART:20270328T020000
RDATE:20271031T010000
TZOFFSETFROM:+0000
TZOFFSETTO:+0100
TZNAME:Europe/London BST
END:DAYLIGHT
END:VTIMEZONE
BEGIN:VEVENT
UID:10f214a293e7317ba128a3f98913f4b9
CATEGORIES:Pub Gig
CREATED:20240207T130206
SUMMARY:An Afternoon with Celtic Heartbeat
LOCATION:The Jericho Tavern
DESCRIPTION:In conjunction with the Oxford Folk Festival (https://www.facebook.com/Oxfo
 rdFolkFestival?__cft__[0]=AZW1xQ9SIbmt1n8x3zTkMtm5CmV5ZKJqxe7sF2HwTapBRRQME
 CJpwIfGzddyQyzaMB48aYYj0YYrIChbTzMzATihJYbHIIkbYqPfEegTr3Hxj_hu1-x0baK2G8Kl
 TiiUEdVEQVlE5WaZXc7P3KzZpnbRJsTUekS9mw_OX72R_UcQv5yUU9PBGVvU-sr4R2P22Ls&amp
 ;__tn__=-]K-R) Celtic Heartbeat will be playing The Jericho Tavern (https:/
 /www.facebook.com/thejerichotavern?__cft__[0]=AZW1xQ9SIbmt1n8x3zTkMtm5CmV5Z
 KJqxe7sF2HwTapBRRQMECJpwIfGzddyQyzaMB48aYYj0YYrIChbTzMzATihJYbHIIkbYqPfEegT
 r3Hxj_hu1-x0baK2G8KlTiiUEdVEQVlE5WaZXc7P3KzZpnbRJsTUekS9mw_OX72R_UcQv5yUU9P
 BGVvU-sr4R2P22Ls&amp;__tn__=-]K-R) Tavern at 2.00pm on Sunday 21st April.Ce
 ltic Heartbeat is a local modern folk band, based around Thame who come to 
 the Oxford Folk Festival having just released their 3rd Album, "Thame and t
 he River",launched to sell out audiences in the theatre in Thame.We have pl
 ayed many local events and festivals including the Big Club, Towersey Festi
 val and are scheduled for The Sidmouth Folk Festival (https://www.facebook.
 com/TheSidmouthFolkFestival?__cft__[0]=AZW1xQ9SIbmt1n8x3zTkMtm5CmV5ZKJqxe7s
 F2HwTapBRRQMECJpwIfGzddyQyzaMB48aYYj0YYrIChbTzMzATihJYbHIIkbYqPfEegTr3Hxj_h
 u1-x0baK2G8KlTiiUEdVEQVlE5WaZXc7P3KzZpnbRJsTUekS9mw_OX72R_UcQv5yUU9PBGVvU-s
 r4R2P22Ls&amp;__tn__=-]K-R) this August.This will be a great afternoon of s
 tory telling, foot tapping and singing along. Hope to see you there: (https
 ://www.wegottickets.com/event/607096?fbclid=IwAR0doJcv-9UgMYC4aZreWRSzdbwbG
 dLfyB3ZlbtF-bFNBD71HR_O9vm-Mic)https://www.wegottickets.com/event/607096 (h
 ttps://www.wegottickets.com/event/607096)This talented six piece, six voice
 s but multiple instruments will be playing songs from the new album and man
 y old folk favourites. A great way to spend a lazy Sunday afternoon.\nThe b
 and have been together for a number of years and are based around Thame. Th
 ey have been playing regular local festivals and gigs including Towersey Fe
 stival and this year Sidmouth Folk Festival\n
X-ALT-DESC;FMTTYPE=text/html:<div dir="auto">In conjunction with the <a href="https://www.facebook.com/O
 xfordFolkFestival?__cft__[0]=AZW1xQ9SIbmt1n8x3zTkMtm5CmV5ZKJqxe7sF2HwTapBRR
 QMECJpwIfGzddyQyzaMB48aYYj0YYrIChbTzMzATihJYbHIIkbYqPfEegTr3Hxj_hu1-x0baK2G
 8KlTiiUEdVEQVlE5WaZXc7P3KzZpnbRJsTUekS9mw_OX72R_UcQv5yUU9PBGVvU-sr4R2P22Ls&
 amp;__tn__=-]K-R" class="x1i10hfl xjbqb8w x1ejq31n xd10rxx x1sy0etr x17r0te
 e x972fbf xcfux6l x1qhh985 xm0m39n x9f619 x1ypdohk xt0psk2 xe8uvvx xdj266r 
 x11i5rnm xat24cr x1mh8g0r xexx8yu x4uap5 x18d9i69 xkhd6sd x16tdsg8 x1hl2dhg
  xggy1nq x1a2a7pz xt0b8zv x1fey0fg xo1l8bm" tabindex="0" role="link"><span 
 class="xt0psk2">Oxford Folk Festival</span></a> Celtic Heartbeat will be pl
 aying <a href="https://www.facebook.com/thejerichotavern?__cft__[0]=AZW1xQ9
 SIbmt1n8x3zTkMtm5CmV5ZKJqxe7sF2HwTapBRRQMECJpwIfGzddyQyzaMB48aYYj0YYrIChbTz
 MzATihJYbHIIkbYqPfEegTr3Hxj_hu1-x0baK2G8KlTiiUEdVEQVlE5WaZXc7P3KzZpnbRJsTUe
 kS9mw_OX72R_UcQv5yUU9PBGVvU-sr4R2P22Ls&amp;__tn__=-]K-R" class="x1i10hfl xj
 bqb8w x1ejq31n xd10rxx x1sy0etr x17r0tee x972fbf xcfux6l x1qhh985 xm0m39n x
 9f619 x1ypdohk xt0psk2 xe8uvvx xdj266r x11i5rnm xat24cr x1mh8g0r xexx8yu x4
 uap5 x18d9i69 xkhd6sd x16tdsg8 x1hl2dhg xggy1nq x1a2a7pz xt0b8zv x1fey0fg x
 o1l8bm" tabindex="0" role="link"><span class="xt0psk2">The Jericho Tavern</
 span></a> Tavern at 2.00pm on Sunday 21st April.</div><div dir="auto">Celti
 c Heartbeat is a local modern folk band, based around Thame who come to the
  Oxford Folk Festival having just released their 3rd Album, "Thame and the 
 River",</div><div dir="auto">launched to sell out audiences in the theatre 
 in Thame.</div><div dir="auto">We have played many local events and festiva
 ls including the Big Club, Towersey Festival and are scheduled for <a href=
 "https://www.facebook.com/TheSidmouthFolkFestival?__cft__[0]=AZW1xQ9SIbmt1n
 8x3zTkMtm5CmV5ZKJqxe7sF2HwTapBRRQMECJpwIfGzddyQyzaMB48aYYj0YYrIChbTzMzATihJ
 YbHIIkbYqPfEegTr3Hxj_hu1-x0baK2G8KlTiiUEdVEQVlE5WaZXc7P3KzZpnbRJsTUekS9mw_O
 X72R_UcQv5yUU9PBGVvU-sr4R2P22Ls&amp;__tn__=-]K-R" class="x1i10hfl xjbqb8w x
 1ejq31n xd10rxx x1sy0etr x17r0tee x972fbf xcfux6l x1qhh985 xm0m39n x9f619 x
 1ypdohk xt0psk2 xe8uvvx xdj266r x11i5rnm xat24cr x1mh8g0r xexx8yu x4uap5 x1
 8d9i69 xkhd6sd x16tdsg8 x1hl2dhg xggy1nq x1a2a7pz xt0b8zv x1fey0fg xo1l8bm"
  tabindex="0" role="link"><span class="xt0psk2">The Sidmouth Folk Festival<
 /span></a> this <a tabindex="-1"></a>August.</div><div dir="auto">This will
  be a great afternoon of story telling, foot tapping and singing along. Hop
 e to see you there:</div><div dir="auto"><a href="https://www.wegottickets.
 com/event/607096?fbclid=IwAR0doJcv-9UgMYC4aZreWRSzdbwbGdLfyB3ZlbtF-bFNBD71H
 R_O9vm-Mic" target="_blank" rel="nofollow noopener noreferrer" class="x1i10
 hfl xjbqb8w x1ejq31n xd10rxx x1sy0etr x17r0tee x972fbf xcfux6l x1qhh985 xm0
 m39n x9f619 x1ypdohk xt0psk2 xe8uvvx xdj266r x11i5rnm xat24cr x1mh8g0r xexx
 8yu x4uap5 x18d9i69 xkhd6sd x16tdsg8 x1hl2dhg xggy1nq x1a2a7pz xt0b8zv x1fe
 y0fg" tabindex="0" role="link"></a><a href="https://www.wegottickets.com/ev
 ent/607096">https://www.wegottickets.com/event/607096</a></div><p><span sty
 le="font-family: helvetica;">This talented six piece, six voices but multip
 le instruments will be playing songs from the new album and many old folk f
 avourites. A great way to spend a lazy Sunday afternoon.</span></p><p><span
  style="font-family: helvetica;">The band have been together for a number o
 f years and are based around Thame. They have been playing regular local fe
 stivals and gigs including Towersey Festival and this year Sidmouth Folk Fe
 stival</span></p>
CONTACT:This email address is being protected from spambots. You need JavaScript enabled to view it.
DTSTAMP:20260424T134719
DTSTART;TZID=Europe/London:20240421T140000
DTEND;TZID=Europe/London:20240421T170000
SEQUENCE:0
TRANSP:OPAQUE
END:VEVENT
END:VCALENDAR