BEGIN:VCALENDAR
VERSION:2.0
PRODID:-//jEvents 2.0 for Joomla//EN
CALSCALE:GREGORIAN
METHOD:PUBLISH
BEGIN:VTIMEZONE
TZID:Europe/London
BEGIN:STANDARD
DTSTART:20230125T200000
RDATE:20230326T020000
TZOFFSETFROM:+0100
TZOFFSETTO:+0000
TZNAME:Europe/London GMT
END:STANDARD
BEGIN:STANDARD
DTSTART:20231029T010000
RDATE:20240331T020000
TZOFFSETFROM:+0100
TZOFFSETTO:+0000
TZNAME:Europe/London GMT
END:STANDARD
BEGIN:STANDARD
DTSTART:20241027T010000
RDATE:20250330T020000
TZOFFSETFROM:+0100
TZOFFSETTO:+0000
TZNAME:Europe/London GMT
END:STANDARD
BEGIN:STANDARD
DTSTART:20251026T010000
RDATE:20260329T020000
TZOFFSETFROM:+0100
TZOFFSETTO:+0000
TZNAME:Europe/London GMT
END:STANDARD
BEGIN:STANDARD
DTSTART:20261025T010000
RDATE:20270328T020000
TZOFFSETFROM:+0100
TZOFFSETTO:+0000
TZNAME:Europe/London GMT
END:STANDARD
BEGIN:STANDARD
DTSTART:20271031T010000
RDATE:20280326T020000
TZOFFSETFROM:+0100
TZOFFSETTO:+0000
TZNAME:Europe/London GMT
END:STANDARD
BEGIN:DAYLIGHT
DTSTART:20230326T020000
RDATE:20231029T010000
TZOFFSETFROM:+0000
TZOFFSETTO:+0100
TZNAME:Europe/London BST
END:DAYLIGHT
BEGIN:DAYLIGHT
DTSTART:20240331T020000
RDATE:20241027T010000
TZOFFSETFROM:+0000
TZOFFSETTO:+0100
TZNAME:Europe/London BST
END:DAYLIGHT
BEGIN:DAYLIGHT
DTSTART:20250330T020000
RDATE:20251026T010000
TZOFFSETFROM:+0000
TZOFFSETTO:+0100
TZNAME:Europe/London BST
END:DAYLIGHT
BEGIN:DAYLIGHT
DTSTART:20260329T020000
RDATE:20261025T010000
TZOFFSETFROM:+0000
TZOFFSETTO:+0100
TZNAME:Europe/London BST
END:DAYLIGHT
BEGIN:DAYLIGHT
DTSTART:20270328T020000
RDATE:20271031T010000
TZOFFSETFROM:+0000
TZOFFSETTO:+0100
TZNAME:Europe/London BST
END:DAYLIGHT
END:VTIMEZONE
BEGIN:VEVENT
UID:9d874d9ad04840534d2b88d87ed8e5b5
CATEGORIES:Session
CREATED:19700101T010000
SUMMARY:The Oxford Scottish Session at the White Hart in Wolvercote
LOCATION:The White Hart Wolvercote
DESCRIPTION:The new Scottish session at The White Hart, Wolvercote, is happening! First
  one is Friday 26th Jan from 8pm. and will run on the fourht Friday of the 
 month thereafter. The idea is Scottish and Scottish-derived tunes, albeit w
 ith extra points for the most-tenuously-Scottish tunes, and a tune-of-the-m
 onth.\nhttps://www.facebook.com/profile.php?id=61555357352304\n
X-ALT-DESC;FMTTYPE=text/html:<p>The new Scottish session at The White Hart, Wolvercote, is happening!&nb
 sp;<span style="caret-color: auto;">First one is Friday 26th Jan from 8pm. 
 and will run on the fourht Friday of the month thereafter. T</span><span st
 yle="caret-color: auto;">he idea is Scottish and Scottish-derived tunes, al
 beit with extra points for the most-tenuously-Scottish tunes, and a tune-of
 -the-month.</span></p><p><a href="https://www.facebook.com/profile.php?id=6
 1555357352304" target="_blank" rel="noopener noreferrer" data-saferedirectu
 rl="https://www.google.com/url?q=https://www.facebook.com/profile.php?id%3D
 61555357352304&amp;source=gmail&amp;ust=1704792967823000&amp;usg=AOvVaw3Hhx
 dU3XJv1tG81gAvmidq">https://www.facebook.com/profi<wbr />le.php?id=61555357
 352304</a></p>
CONTACT:https://www.facebook.com/profile.php?id=61555357352304
X-EXTRAINFO:https://www.facebook.com/profile.php?id=61555357352304
DTSTAMP:20260419T144410
DTSTART;TZID=Europe/London:20240126T200000
DTEND;TZID=Europe/London:20240126T230000
SEQUENCE:0
RRULE:FREQ=MONTHLY;COUNT=900;INTERVAL=1;BYDAY=+4FR
TRANSP:OPAQUE
END:VEVENT
END:VCALENDAR