BEGIN:VCALENDAR
VERSION:2.0
PRODID:-//jEvents 2.0 for Joomla//EN
CALSCALE:GREGORIAN
METHOD:PUBLISH
BEGIN:VTIMEZONE
TZID:Europe/London
BEGIN:STANDARD
DTSTART:20220205T193000
RDATE:20220327T020000
TZOFFSETFROM:+0100
TZOFFSETTO:+0000
TZNAME:Europe/London GMT
END:STANDARD
BEGIN:STANDARD
DTSTART:20221030T010000
RDATE:20230326T020000
TZOFFSETFROM:+0100
TZOFFSETTO:+0000
TZNAME:Europe/London GMT
END:STANDARD
BEGIN:STANDARD
DTSTART:20231029T010000
RDATE:20240331T020000
TZOFFSETFROM:+0100
TZOFFSETTO:+0000
TZNAME:Europe/London GMT
END:STANDARD
BEGIN:STANDARD
DTSTART:20241027T010000
RDATE:20250330T020000
TZOFFSETFROM:+0100
TZOFFSETTO:+0000
TZNAME:Europe/London GMT
END:STANDARD
BEGIN:STANDARD
DTSTART:20251026T010000
RDATE:20260329T020000
TZOFFSETFROM:+0100
TZOFFSETTO:+0000
TZNAME:Europe/London GMT
END:STANDARD
BEGIN:STANDARD
DTSTART:20261025T010000
RDATE:20270328T020000
TZOFFSETFROM:+0100
TZOFFSETTO:+0000
TZNAME:Europe/London GMT
END:STANDARD
BEGIN:STANDARD
DTSTART:20271031T010000
RDATE:20280326T020000
TZOFFSETFROM:+0100
TZOFFSETTO:+0000
TZNAME:Europe/London GMT
END:STANDARD
BEGIN:DAYLIGHT
DTSTART:20220327T020000
RDATE:20221030T010000
TZOFFSETFROM:+0000
TZOFFSETTO:+0100
TZNAME:Europe/London BST
END:DAYLIGHT
BEGIN:DAYLIGHT
DTSTART:20230326T020000
RDATE:20231029T010000
TZOFFSETFROM:+0000
TZOFFSETTO:+0100
TZNAME:Europe/London BST
END:DAYLIGHT
BEGIN:DAYLIGHT
DTSTART:20240331T020000
RDATE:20241027T010000
TZOFFSETFROM:+0000
TZOFFSETTO:+0100
TZNAME:Europe/London BST
END:DAYLIGHT
BEGIN:DAYLIGHT
DTSTART:20250330T020000
RDATE:20251026T010000
TZOFFSETFROM:+0000
TZOFFSETTO:+0100
TZNAME:Europe/London BST
END:DAYLIGHT
BEGIN:DAYLIGHT
DTSTART:20260329T020000
RDATE:20261025T010000
TZOFFSETFROM:+0000
TZOFFSETTO:+0100
TZNAME:Europe/London BST
END:DAYLIGHT
BEGIN:DAYLIGHT
DTSTART:20270328T020000
RDATE:20271031T010000
TZOFFSETFROM:+0000
TZOFFSETTO:+0100
TZNAME:Europe/London BST
END:DAYLIGHT
END:VTIMEZONE
BEGIN:VEVENT
UID:8ead74685c0cce1633063351f64a5ca0
CATEGORIES:Morris
CREATED:19700101T010000
SUMMARY:Sharp and Blunt Morris Practice
LOCATION:Adderbury Institute\, The Green\, Adderbury
DESCRIPTION:We are an all singing, all dancing female Morris side from Adderbury, Oxfor
 dshire \nFind out more about Sharp and Blunt by visiting our Facebook page 
 (Sharp and Blunt) or follow us on Twitter (@sharpbluntdance).\nIf you would
  like to come along to one of our practice sessions, email us at  (mailto:s
 harpandblunt@gmail.com)sharpandblunt@gmail.com (mailto:sharpandblunt@gmail.
 com).  You will be very welcome!\nThis calendar item is generated automatic
 ally. Please confirm with contact to ensure side is practicing this week.\n
X-ALT-DESC;FMTTYPE=text/html:<p>We are an all singing, all dancing female Morris side from Adderbury, Ox
 fordshire&nbsp;</p><p>Find out more about Sharp and Blunt by visiting our F
 acebook page (Sharp and Blunt) or follow us on Twitter (@sharpbluntdance).<
 /p><p>If you would like to come along to one of our practice sessions, emai
 l us at&nbsp;<a href="mailto:sharpandblunt@gmail.com"></a><a href="mailto:s
 harpandblunt@gmail.com">sharpandblunt@gmail.com</a>. &nbsp;You will be very
  welcome!</p><p>This calendar item is generated automatically. Please confi
 rm with contact to ensure side is practicing this week.</p>
CONTACT:sharpandblunt@gmail.com 
DTSTAMP:20260424T134633
DTSTART;TZID=Europe/London:20230206T193000
DTEND;TZID=Europe/London:20230206T210000
SEQUENCE:0
RRULE:FREQ=MONTHLY;UNTIL=20230501T000000Z;INTERVAL=1;BYDAY=+1MO,+2MO,+4MO,+5MO
TRANSP:OPAQUE
END:VEVENT
END:VCALENDAR