BEGIN:VCALENDAR
VERSION:2.0
PRODID:-//jEvents 2.0 for Joomla//EN
CALSCALE:GREGORIAN
METHOD:PUBLISH
BEGIN:VTIMEZONE
TZID:Europe/London
BEGIN:STANDARD
DTSTART:20211031T010000
RDATE:20220327T020000
TZOFFSETFROM:+0100
TZOFFSETTO:+0000
TZNAME:Europe/London GMT
END:STANDARD
BEGIN:STANDARD
DTSTART:20221030T010000
RDATE:20230326T020000
TZOFFSETFROM:+0100
TZOFFSETTO:+0000
TZNAME:Europe/London GMT
END:STANDARD
BEGIN:STANDARD
DTSTART:20231029T010000
RDATE:20240331T020000
TZOFFSETFROM:+0100
TZOFFSETTO:+0000
TZNAME:Europe/London GMT
END:STANDARD
BEGIN:STANDARD
DTSTART:20241027T010000
RDATE:20250330T020000
TZOFFSETFROM:+0100
TZOFFSETTO:+0000
TZNAME:Europe/London GMT
END:STANDARD
BEGIN:STANDARD
DTSTART:20251026T010000
RDATE:20260329T020000
TZOFFSETFROM:+0100
TZOFFSETTO:+0000
TZNAME:Europe/London GMT
END:STANDARD
BEGIN:STANDARD
DTSTART:20261025T010000
RDATE:20270328T020000
TZOFFSETFROM:+0100
TZOFFSETTO:+0000
TZNAME:Europe/London GMT
END:STANDARD
BEGIN:STANDARD
DTSTART:20271031T010000
RDATE:20280326T020000
TZOFFSETFROM:+0100
TZOFFSETTO:+0000
TZNAME:Europe/London GMT
END:STANDARD
BEGIN:DAYLIGHT
DTSTART:20211015T163000
RDATE:20211031T010000
TZOFFSETFROM:+0000
TZOFFSETTO:+0100
TZNAME:Europe/London BST
END:DAYLIGHT
BEGIN:DAYLIGHT
DTSTART:20220327T020000
RDATE:20221030T010000
TZOFFSETFROM:+0000
TZOFFSETTO:+0100
TZNAME:Europe/London BST
END:DAYLIGHT
BEGIN:DAYLIGHT
DTSTART:20230326T020000
RDATE:20231029T010000
TZOFFSETFROM:+0000
TZOFFSETTO:+0100
TZNAME:Europe/London BST
END:DAYLIGHT
BEGIN:DAYLIGHT
DTSTART:20240331T020000
RDATE:20241027T010000
TZOFFSETFROM:+0000
TZOFFSETTO:+0100
TZNAME:Europe/London BST
END:DAYLIGHT
BEGIN:DAYLIGHT
DTSTART:20250330T020000
RDATE:20251026T010000
TZOFFSETFROM:+0000
TZOFFSETTO:+0100
TZNAME:Europe/London BST
END:DAYLIGHT
BEGIN:DAYLIGHT
DTSTART:20260329T020000
RDATE:20261025T010000
TZOFFSETFROM:+0000
TZOFFSETTO:+0100
TZNAME:Europe/London BST
END:DAYLIGHT
BEGIN:DAYLIGHT
DTSTART:20270328T020000
RDATE:20271031T010000
TZOFFSETFROM:+0000
TZOFFSETTO:+0100
TZNAME:Europe/London BST
END:DAYLIGHT
END:VTIMEZONE
BEGIN:VEVENT
UID:f8c3705d5ee0f04e433bf77f72e18a91
CATEGORIES:Session
CREATED:19700101T010000
SUMMARY:Open Session at The Lamb and Flag, Oxford
LOCATION:The Lamb and Flag\, 12 St Giles'\, Oxford OX1 3J
DESCRIPTION:An open come-all-ye session, tunes and songs welcome at the Lamb and Flag o
 n 3rd Sunday from 4:30pm\n
X-ALT-DESC;FMTTYPE=text/html:<p>An open come-all-ye session, tunes and songs welcome at the Lamb and Fla
 g on 3rd Sunday from 4:30pm</p>
CONTACT:https://www.facebook.com/OxfordSundaySessions
DTSTAMP:20260424T121303
DTSTART;TZID=Europe/London:20221016T163000
SEQUENCE:0
RRULE:FREQ=MONTHLY;COUNT=99;INTERVAL=1;BYDAY=+3SU
TRANSP:OPAQUE
END:VEVENT
BEGIN:VEVENT
UID:f8c3705d5ee0f04e433bf77f72e18a91
CATEGORIES:Session
CREATED:20220926T180502
SUMMARY:Open Session at The White House, Oxford
LOCATION:The White House, 38 Abingdon Road, Oxford OX1 4PD
DESCRIPTION:*At 5:30pm this month only due to the availability of the pub!\nAn open com
 e-all-ye session, tunes and songs welcome at the White House on 3rd Sunday 
 from 4:30pm\n
X-ALT-DESC;FMTTYPE=text/html:<p><strong>*At 5:30pm this month only due to the availability of the pub!</
 strong></p><p>An open come-all-ye session, tunes and songs welcome at the W
 hite House on 3rd Sunday from 4:30pm</p>
URL;VALUE=URI:https://folkinoxford.co.uk.jacksmaggot.band/calendar/icalrepeat.detail/2023
 /12/17/46448/-/open-session-at-the-white-house-oxford.html?tmpl=component
CONTACT:https://www.facebook.com/OxfordSundaySessions

DTSTAMP:20260424T121303
DTSTART;TZID=Europe/London:20231217T173000
DTEND;TZID=Europe/London:20231217T235959
RECURRENCE-ID;TZID=Europe/London:20231217T163000
SEQUENCE:0
TRANSP:OPAQUE
END:VEVENT
BEGIN:VEVENT
UID:f8c3705d5ee0f04e433bf77f72e18a91
CATEGORIES:Session
CREATED:20220926T180502
SUMMARY:Open Session at The Lamb and Flag, Oxford
LOCATION:The Lamb and Flag, 12 St Giles',Oxford, OX1 3JS
DESCRIPTION:An open come-all-ye session, tunes and songs welcome at the White House on 
 3rd Sunday from 4:30pm\nThis session has moved to The Lamb and Flag whilst 
 The White House is closed.\n
X-ALT-DESC;FMTTYPE=text/html:<p>An open come-all-ye session, tunes and songs welcome at the White House 
 on 3rd Sunday from 4:30pm</p><p>This session has moved to The Lamb and Flag
  whilst The White House is closed.</p>
URL;VALUE=URI:https://folkinoxford.co.uk.jacksmaggot.band/calendar/icalrepeat.detail/2024
 /07/21/46455/-/open-session-at-the-lamb-and-flag-oxford.html?tmpl=component
CONTACT:https://www.facebook.com/OxfordSundaySessions

DTSTAMP:20260424T121303
DTSTART;TZID=Europe/London:20240721T163000
DTEND;TZID=Europe/London:20240721T235959
RECURRENCE-ID;TZID=Europe/London:20240721T163000
SEQUENCE:0
TRANSP:OPAQUE
END:VEVENT
BEGIN:VEVENT
UID:f8c3705d5ee0f04e433bf77f72e18a91
CATEGORIES:Session
CREATED:20220926T180502
SUMMARY:Open Session at The Lamb and Flag, Oxford - NO SESSION THIS MONTH
LOCATION:The White House, 38 Abingdon Road, Oxford OX1 4PD
DESCRIPTION:An open come-all-ye session, tunes and songs welcome at the White House on 
 3rd Sunday from 4:30pm\n
X-ALT-DESC;FMTTYPE=text/html:<p>An open come-all-ye session, tunes and songs welcome at the White House 
 on 3rd Sunday from 4:30pm</p>
URL;VALUE=URI:https://folkinoxford.co.uk.jacksmaggot.band/calendar/icalrepeat.detail/2024
 /08/18/46456/-/open-session-at-the-lamb-and-flag-oxford-no-session-this-mon
 th.html?tmpl=component
CONTACT:https://www.facebook.com/OxfordSundaySessions

DTSTAMP:20260424T121303
DTSTART;TZID=Europe/London:20240818T163000
DTEND;TZID=Europe/London:20240818T235959
RECURRENCE-ID;TZID=Europe/London:20240818T163000
SEQUENCE:0
TRANSP:OPAQUE
END:VEVENT
BEGIN:VEVENT
UID:f8c3705d5ee0f04e433bf77f72e18a91
CATEGORIES:Session
CREATED:20220926T180502
SUMMARY:Open Session at The Lamb and Flag, Oxford
LOCATION:The White House, 38 Abingdon Road, Oxford OX1 4PD
DESCRIPTION:An open come-all-ye session, tunes and songs welcome at the White House on 
 3rd Sunday from 4:30pm\n
X-ALT-DESC;FMTTYPE=text/html:<p>An open come-all-ye session, tunes and songs welcome at the White House 
 on 3rd Sunday from 4:30pm</p>
URL;VALUE=URI:https://folkinoxford.co.uk.jacksmaggot.band/calendar/icalrepeat.detail/2024
 /12/22/46460/-/open-session-at-the-lamb-and-flag-oxford.html?tmpl=component
CONTACT:https://www.facebook.com/OxfordSundaySessions

DTSTAMP:20260424T121303
DTSTART;TZID=Europe/London:20241222T163000
DTEND;TZID=Europe/London:20241222T235959
RECURRENCE-ID;TZID=Europe/London:20241215T163000
SEQUENCE:0
TRANSP:OPAQUE
END:VEVENT
BEGIN:VEVENT
UID:f8c3705d5ee0f04e433bf77f72e18a91
CATEGORIES:Session
CREATED:20220926T180502
SUMMARY:Open Session at The Royal Blenheim
LOCATION:The Royal Blenheim, 13 Saint Ebbe's St, Oxford OX1 1PT
DESCRIPTION:An open come-all-ye session, tunes and songs welcome at the White House on 
 3rd Sunday from 4:30pm\n
X-ALT-DESC;FMTTYPE=text/html:<p>An open come-all-ye session, tunes and songs welcome at the White House 
 on 3rd Sunday from 4:30pm</p>
URL;VALUE=URI:https://folkinoxford.co.uk.jacksmaggot.band/calendar/icalrepeat.detail/2025
 /05/18/46465/-/open-session-at-the-royal-blenheim.html?tmpl=component
CONTACT:https://www.facebook.com/OxfordSundaySessions

DTSTAMP:20260424T121303
DTSTART;TZID=Europe/London:20250518T160000
DTEND;TZID=Europe/London:20250518T235959
RECURRENCE-ID;TZID=Europe/London:20250518T163000
SEQUENCE:0
TRANSP:OPAQUE
END:VEVENT
BEGIN:VEVENT
UID:f8c3705d5ee0f04e433bf77f72e18a91
CATEGORIES:Session
CREATED:20220926T180502
SUMMARY:Open Session at The Royal Blenheim, Oxford
LOCATION:The Royal Blenheim, 13 Saint Ebbe's St, Oxford OX1 1PT
DESCRIPTION:An open come-all-ye session, tunes and songs.\nNOTE THIS HAS BEEN MOVED FRO
 M THE LAMB AND FLAG FOR THIS MONTH.\n
X-ALT-DESC;FMTTYPE=text/html:<p>An open come-all-ye session, tunes and songs.</p><p>NOTE THIS HAS BEEN M
 OVED FROM THE LAMB AND FLAG FOR THIS MONTH.</p>
URL;VALUE=URI:https://folkinoxford.co.uk.jacksmaggot.band/calendar/icalrepeat.detail/2025
 /06/15/46466/-/open-session-at-the-royal-blenheim-oxford.html?tmpl=componen
 t
CONTACT:https://www.facebook.com/OxfordSundaySessions

DTSTAMP:20260424T121303
DTSTART;TZID=Europe/London:20250615T160000
DTEND;TZID=Europe/London:20250615T190000
RECURRENCE-ID;TZID=Europe/London:20250615T163000
SEQUENCE:0
TRANSP:OPAQUE
END:VEVENT
END:VCALENDAR