BEGIN:VCALENDAR
VERSION:2.0
PRODID:-//jEvents 2.0 for Joomla//EN
CALSCALE:GREGORIAN
METHOD:PUBLISH
BEGIN:VTIMEZONE
TZID:Europe/London
BEGIN:STANDARD
DTSTART:20211031T010000
RDATE:20220327T020000
TZOFFSETFROM:+0100
TZOFFSETTO:+0000
TZNAME:Europe/London GMT
END:STANDARD
BEGIN:STANDARD
DTSTART:20221030T010000
RDATE:20230326T020000
TZOFFSETFROM:+0100
TZOFFSETTO:+0000
TZNAME:Europe/London GMT
END:STANDARD
BEGIN:STANDARD
DTSTART:20231029T010000
RDATE:20240331T020000
TZOFFSETFROM:+0100
TZOFFSETTO:+0000
TZNAME:Europe/London GMT
END:STANDARD
BEGIN:STANDARD
DTSTART:20241027T010000
RDATE:20250330T020000
TZOFFSETFROM:+0100
TZOFFSETTO:+0000
TZNAME:Europe/London GMT
END:STANDARD
BEGIN:STANDARD
DTSTART:20251026T010000
RDATE:20260329T020000
TZOFFSETFROM:+0100
TZOFFSETTO:+0000
TZNAME:Europe/London GMT
END:STANDARD
BEGIN:STANDARD
DTSTART:20261025T010000
RDATE:20270328T020000
TZOFFSETFROM:+0100
TZOFFSETTO:+0000
TZNAME:Europe/London GMT
END:STANDARD
BEGIN:STANDARD
DTSTART:20271031T010000
RDATE:20280326T020000
TZOFFSETFROM:+0100
TZOFFSETTO:+0000
TZNAME:Europe/London GMT
END:STANDARD
BEGIN:DAYLIGHT
DTSTART:20210401T200000
RDATE:20211031T010000
TZOFFSETFROM:+0000
TZOFFSETTO:+0100
TZNAME:Europe/London BST
END:DAYLIGHT
BEGIN:DAYLIGHT
DTSTART:20220327T020000
RDATE:20221030T010000
TZOFFSETFROM:+0000
TZOFFSETTO:+0100
TZNAME:Europe/London BST
END:DAYLIGHT
BEGIN:DAYLIGHT
DTSTART:20230326T020000
RDATE:20231029T010000
TZOFFSETFROM:+0000
TZOFFSETTO:+0100
TZNAME:Europe/London BST
END:DAYLIGHT
BEGIN:DAYLIGHT
DTSTART:20240331T020000
RDATE:20241027T010000
TZOFFSETFROM:+0000
TZOFFSETTO:+0100
TZNAME:Europe/London BST
END:DAYLIGHT
BEGIN:DAYLIGHT
DTSTART:20250330T020000
RDATE:20251026T010000
TZOFFSETFROM:+0000
TZOFFSETTO:+0100
TZNAME:Europe/London BST
END:DAYLIGHT
BEGIN:DAYLIGHT
DTSTART:20260329T020000
RDATE:20261025T010000
TZOFFSETFROM:+0000
TZOFFSETTO:+0100
TZNAME:Europe/London BST
END:DAYLIGHT
BEGIN:DAYLIGHT
DTSTART:20270328T020000
RDATE:20271031T010000
TZOFFSETFROM:+0000
TZOFFSETTO:+0100
TZNAME:Europe/London BST
END:DAYLIGHT
END:VTIMEZONE
BEGIN:VEVENT
UID:e4afc97b5f999c8b7c5f231992f034cd
CATEGORIES:Ceilidh / Bal / Social Dance
CREATED:20220302T120003
SUMMARY:White Horse Ceilidhs - Jigworks & Fran Wood
LOCATION:Grove Village Hall\, OX12 7JY
DESCRIPTION:Spring Ceilidh with Jigworks (https://www.jigworks.co.uk/) and caller Fran 
 Wood.\nDoors open 7.30pm, £8 adults, £4 u16s.\n\nNo experience necessary, c
 ome to learn dances and meet people!\nGlee Club UK Wantage (https://www.wan
 tage.com/directory/listing/glee-club-uk-wantage) will sing during the break
  and there'll be a licensed bar with real Ale.\n\n\n
X-ALT-DESC;FMTTYPE=text/html:<p>Spring Ceilidh with <a href="https://www.jigworks.co.uk/">Jigworks</a> a
 nd caller Fran Wood.</p><p>Doors open 7.30pm, £8 adults, £4 u16s.</p><p><br
  />No experience necessary, come to learn dances and meet people!</p><p><a 
 href="https://www.wantage.com/directory/listing/glee-club-uk-wantage">Glee 
 Club UK Wantage</a> will sing during the break and there'll be a licensed b
 ar with real Ale.<br /><br /></p>
CONTACT:07855 548512
X-EXTRAINFO:This email address is being protected from spambots. You need JavaScript en
 abled to view it.\nwww.whitehorseceilidhs.org.uk
DTSTAMP:20260424T134719
DTSTART;TZID=Europe/London:20220402T200000
DTEND;TZID=Europe/London:20220402T233000
SEQUENCE:0
TRANSP:OPAQUE
END:VEVENT
END:VCALENDAR